BEGIN:VCALENDAR
VERSION:2.0
PRODID:-//ChamberMaster//Event Calendar 2.0//EN
METHOD:PUBLISH
X-PUBLISHED-TTL:P3D
REFRESH-INTERVAL:P3D
CALSCALE:GREGORIAN
BEGIN:VEVENT
DTSTART;VALUE=DATE:20180616
DTEND;VALUE=DATE:20180618
TRANSP:TRANSPARENT
X-MICROSOFT-CDO-ALLDAYEVENT:TRUE
SUMMARY:24th Annual Petoskey Sand Dig Beach Volleyball Tournament
DESCRIPTION:Where better to play volleyball than on one of the most beautiful beaches in northern Michigan?  Join in the fun and chances to win cash and prizes at this\, the longest running Beach Volleyball Tournament in northern Michigan!\n\nSaturday\, June 16 @ 9:00 AM   Men's & Women's Doubles and Sunday\, June 17 @ 9:00 AM   Co-ed Doubles\n\nRegistration will be available online.  This will be a great time whether you're playing or just watching the excitement!
X-ALT-DESC;FMTTYPE=text/html:<p style="box-sizing: border-box\; margin: 0px 0px 1.25rem 15px\; padding: 0px\; font-family: &quot\;Open Sans&quot\;\, sans-serif\; font-size: 16px\; font-weight: 400\; line-height: 1.6\; text-rendering: optimizeLegibility\; color: rgb(69\, 68\, 68)\; font-style: normal\; font-variant-ligatures: normal\; font-variant-caps: normal\; letter-spacing: normal\; orphans: 2\; text-align: left\; text-indent: 0px\; text-transform: none\; white-space: normal\; widows: 2\; word-spacing: 0px\; -webkit-text-stroke-width: 0px\; background-color: rgb(255\, 255\, 255)\; text-decoration-style: initial\; text-decoration-color: initial\;">Where better to play volleyball than on one of the most beautiful beaches in northern Michigan?&nbsp\; Join in the fun and chances to win cash and&nbsp\;prizes at this\,<span>&nbsp\;</span><strong style="box-sizing: border-box\; font-weight: bold\; line-height: inherit\;">the longest running Beach Volleyball Tournament in&nbsp\;northern Michigan!</strong></p>\n\n<p style="box-sizing: border-box\; margin: 0px 0px 1.25rem 15px\; padding: 0px\; font-family: &quot\;Open Sans&quot\;\, sans-serif\; font-size: 16px\; font-weight: 400\; line-height: 1.6\; text-rendering: optimizeLegibility\; color: rgb(69\, 68\, 68)\; font-style: normal\; font-variant-ligatures: normal\; font-variant-caps: normal\; letter-spacing: normal\; orphans: 2\; text-align: left\; text-indent: 0px\; text-transform: none\; white-space: normal\; widows: 2\; word-spacing: 0px\; -webkit-text-stroke-width: 0px\; background-color: rgb(255\, 255\, 255)\; text-decoration-style: initial\; text-decoration-color: initial\;">Saturday\, June 16 @ 9:00 AM &ndash\; Men&rsquo\;s &amp\; Women&rsquo\;s Doubles and Sunday\, June 17 @ 9:00 AM &ndash\; Co-ed Doubles</p>\n\n<p style="box-sizing: border-box\; margin: 0px 0px 1.25rem 15px\; padding: 0px\; font-family: &quot\;Open Sans&quot\;\, sans-serif\; font-size: 16px\; font-weight: 400\; line-height: 1.6\; text-rendering: optimizeLegibility\; color: rgb(69\, 68\, 68)\; font-style: normal\; font-variant-ligatures: normal\; font-variant-caps: normal\; letter-spacing: normal\; orphans: 2\; text-align: left\; text-indent: 0px\; text-transform: none\; white-space: normal\; widows: 2\; word-spacing: 0px\; -webkit-text-stroke-width: 0px\; background-color: rgb(255\, 255\, 255)\; text-decoration-style: initial\; text-decoration-color: initial\;"><strong style="box-sizing: border-box\; font-weight: bold\; line-height: inherit\;"><a href="http://petoskey.recdesk.com/" rel="noopener noreferrer" style="box-sizing: border-box\; color: rgb(80\, 184\, 73)\; line-height: inherit\; text-decoration: none\;" target="_blank">Registration will be available online</a></strong>. &nbsp\;This will be a great time whether you&#39\;re playing or just watching the excitement!</p>\n
LOCATION:Petoskey State Park 2475 M-119 Petoskey\, MI 49770
UID:e.1318.16508
SEQUENCE:3
DTSTAMP:20260420T020236Z
URL:https://www.petoskeychamber.com/events/details/24th-annual-petoskey-sand-dig-beach-volleyball-tournament-16508
END:VEVENT

END:VCALENDAR
