BEGIN:VCALENDAR
VERSION:2.0
PRODID:-//ChamberMaster//Event Calendar 2.0//EN
METHOD:PUBLISH
X-PUBLISHED-TTL:P3D
REFRESH-INTERVAL:P3D
CALSCALE:GREGORIAN
BEGIN:VEVENT
DTSTART:20260521T210000Z
DTEND:20260521T230000Z
X-MICROSOFT-CDO-ALLDAYEVENT:FALSE
SUMMARY:Business After Hours - May 2026
DESCRIPTION:Join the Petoskey Regional Chamber of Commerce for our May Business After Hours on Thursday\, May 21\, from 5:00 p.m. to 7:00 p.m. at City Park Grill. \n\n \n\nThis month's theme is Spring into Summer\, and we would like you to wear your summer best. Don Hawaiian shirts\, floral prints\, tees\, sunglasses\, and anything else you need to get you ready for the busy summer season. Let's celebrate summer before summer! You will however need a shirt and shoes for service . . . so please no swimwear. \n\n \n\nAs a bonus\, if you show up to City Park Grill in your summer apparel\, you receive an extra entry into our BAH Bonus drawing. \n\n \n\nDon't forget to bring your business cards for a way to connect as well as to be entered in sponsor drawings to win prizes. \n\n \n\nAdmission to this and all Business After Hours events is only $10 for Petoskey Regional Chamber of Commerce members and $15 for not-yet-members. You can pay at the door\, or you can purchase your admission online ahead of time by clicking the link below. OR save time and the line and pre-pay online today.\n\n \n\nThank you to our May Business After Hours sponsors\, Bay View Association\, Blue Cross Blue Shield of Michigan\, F S Roofing\, Kiwanis Club of Petoskey\, Northern Technology Services\, and Northmen Den Youth Services.
X-ALT-DESC;FMTTYPE=text/html:<div class="_209g _2vxa" data-block="true" data-offset-key="bf80-0-0" style="direction: ltr\; text-align: left\; position: relative\; color: rgb(20\, 24\, 35)\; font-size: 12px\; font-style: normal\; font-variant: normal\; letter-spacing: normal\; line-height: 18px\; text-indent: 0px\; text-transform: none\; white-space: pre-wrap\; widows: 1\; word-spacing: 0px\; -webkit-text-stroke-width: 0px\; background-color: rgb(255\, 255\, 255)\;">\n<div style="color: rgb(64\, 63\, 66)\; font-size: 12px\; font-style: normal\; font-variant-ligatures: normal\; font-variant-caps: normal\; letter-spacing: normal\; orphans: 2\; text-align: left\; text-indent: 0px\; text-transform: none\; white-space: pre-wrap\; widows: 2\; word-spacing: 0px\; -webkit-text-stroke-width: 0px\; background-color: rgb(255\, 255\, 255)\; text-decoration-style: initial\; text-decoration-color: initial\;">\n<div class="_209g _2vxa" data-block="true" data-offset-key="bf80-0-0" style="box-sizing: content-box\; inset: auto\; clear: none\; color: rgb(20\, 24\, 35)\; content: normal\; direction: ltr\; empty-cells: show\; float: none\; font-variant-numeric: inherit\; font-stretch: inherit\; font-size: 12px\; line-height: 18px\; margin: 0px\; max-height: none\; max-width: none\; min-height: initial\; min-width: initial\; opacity: 1\; outline-offset: 0px\; overflow: visible\; padding: 0px\; position: relative\; resize: none\; table-layout: auto\; text-overflow: clip\; vertical-align: baseline\; visibility: inherit\; white-space: pre-wrap\; word-break: inherit\; overflow-wrap: inherit\; z-index: auto\; background-image: none\; background-position: initial\; background-size: initial\; background-repeat: initial\; background-attachment: initial\; background-origin: initial\; background-clip: initial\; border: none\; border-collapse: separate\; border-radius: 0px\; height: auto\; width: auto\; box-shadow: none\; widows: 1\;">\n<p style="box-sizing: content-box\; margin: 1em 0px\; color: rgb(66\, 59\, 56)\; line-height: inherit\; inset: auto\; clear: none\; content: normal\; direction: inherit\; empty-cells: show\; float: none\; font-variant-numeric: inherit\; font-variant-east-asian: inherit\; font-stretch: inherit\; font-size: 16px\; max-height: none\; max-width: none\; min-height: initial\; min-width: initial\; opacity: 1\; outline-offset: 0px\; overflow: visible\; padding: 0px\; position: static\; resize: none\; table-layout: auto\; text-overflow: clip\; vertical-align: baseline\; visibility: inherit\; word-break: inherit\; overflow-wrap: inherit\; z-index: auto\; background-image: none\; background-position: initial\; background-size: initial\; background-repeat: initial\; background-attachment: initial\; background-origin: initial\; background-clip: initial\; border: none\; border-collapse: separate\; border-radius: 0px\; height: auto\; width: auto\; box-shadow: none\;"><strong><span style="color:#1A191A\;"><span style="font-family:arial\,sans-serif\;">Join the Petoskey Regional Chamber of Commerce for our May Business After Hours on Thursday\, May 21\, from 5:00 p.m. to 7:00 p.m. at City Park Grill. </span></span></strong><br />\n&nbsp\;<br />\n<strong><span style="color:#1A191A\;"><span style="font-family:arial\,sans-serif\;">This month&rsquo\;s theme is <em>Spring into Summer</em>\, and we would like you to wear your summer best. Don Hawaiian shirts\, floral prints\, tees\, sunglasses\, and anything else you need to get you ready for the busy summer season.</span></span></strong><span style="color:#1A191A\;"><span style="font-family:arial\,sans-serif\;"> Let&#39\;s celebrate summer before summer! You will however need a shirt and shoes for service . . . so please no swimwear. </span></span><br />\n&nbsp\;<br />\n<strong><span style="color:#1A191A\;"><span style="font-family:arial\,sans-serif\;">As a bonus\,</span></span></strong><span style="color:#1A191A\;"><span style="font-family:arial\,sans-serif\;"> <strong>if you show up to City Park Grill in your summer apparel\, you receive an extra entry into our BAH Bonus drawing. </strong></span></span><br />\n&nbsp\;<br />\n<span style="color:#1A191A\;"><span style="font-family:arial\,sans-serif\;">Don&#39\;t forget to bring your business cards for a way to connect as well as to be entered in sponsor drawings to win prizes. </span></span><br />\n&nbsp\;<br />\n<span style="color:#1A191A\;"><span style="font-family:arial\,sans-serif\;">Admission to this and all Business After Hours events is only $10 for Petoskey Regional Chamber of Commerce members and $15 for not-yet-members.&nbsp\;You can pay at the door\, or you can purchase your admission online ahead of time by clicking the link below. OR save time and the line and pre-pay online today.</span></span><br />\n&nbsp\;<br />\n<span style="color:#1A191A\;"><span style="font-family:arial\,sans-serif\;"><span style="font-size:12.0pt\;">Thank you to our May Business After Hours sponsors\, </span></span></span><span style="color:#1A191A\;"><span style="font-family:open sans\,sans-serif\;"><span style="font-size:11.5pt\;"><a href="https://8xc5xpeab.cc.rs6.net/tn.jsp?f=001cP6J-aIUllevXcxH1cDSoN8BJUdssK9cCkBMwnOhOaJhd0YoV8J8D00IPDvRaNt7_tck8-4MK9KOdLomxT6R6KWGoEY7elST_ga66pCYR5EQ0vZGcQisvxf-RYM3F8gp3qIsZkXdMsQTo3NL4N68xra1LbP6vEkOlOcS5v2DOuU=&amp\;c=jjBvRnpL5VZwttkMq08VfK-hGUv2mNf5TIKRky0fmekyA11wdVcFhw==&amp\;ch=03XGX_cHKv8LFzr8lj7PY_K4BekIRBpw1CHvstfFP_46aoLPWdvDwg==" target="_blank"><strong><span style="color:#1956D8\;"><span style="font-family:arial\,sans-serif\;"><span style="font-size:12.0pt\;">Bay View Association</span></span></span></strong></a></span></span></span><span style="color:#1A191A\;"><span style="font-family:arial\,sans-serif\;"><span style="font-size:12.0pt\;">\, </span></span></span><span style="color:#1A191A\;"><span style="font-family:open sans\,sans-serif\;"><span style="font-size:11.5pt\;"><a href="https://8xc5xpeab.cc.rs6.net/tn.jsp?f=001cP6J-aIUllevXcxH1cDSoN8BJUdssK9cCkBMwnOhOaJhd0YoV8J8D7T9ekhoOiJ6yyTuUlAYg_8qzuVQjWUFL-oxFDIm5OSUzmU_1jHkGGAHhsFltu8PLK-x0uHroDeIwguDMD0Bkl5-nKDyiUx-Wg==&amp\;c=jjBvRnpL5VZwttkMq08VfK-hGUv2mNf5TIKRky0fmekyA11wdVcFhw==&amp\;ch=03XGX_cHKv8LFzr8lj7PY_K4BekIRBpw1CHvstfFP_46aoLPWdvDwg==" target="_blank"><strong><span style="color:#1956D8\;"><span style="font-family:arial\,sans-serif\;"><span style="font-size:12.0pt\;">Blue Cross Blue Shield of Michigan</span></span></span></strong></a></span></span></span><span style="color:#1A191A\;"><span style="font-family:arial\,sans-serif\;"><span style="font-size:12.0pt\;">\, </span></span></span><span style="color:#1A191A\;"><span style="font-family:open sans\,sans-serif\;"><span style="font-size:11.5pt\;"><a href="https://8xc5xpeab.cc.rs6.net/tn.jsp?f=001cP6J-aIUllevXcxH1cDSoN8BJUdssK9cCkBMwnOhOaJhd0YoV8J8D3_iRmIPdT641N-K6l1mhwUDrAtRvRGSXBSt6D6eokihhzaeMrYVcdIaPQQJgNYinLdcihrpq0CLga-OOS62eftBZooeSBoWgG55JTyzz05znrQcRnsBX-s=&amp\;c=jjBvRnpL5VZwttkMq08VfK-hGUv2mNf5TIKRky0fmekyA11wdVcFhw==&amp\;ch=03XGX_cHKv8LFzr8lj7PY_K4BekIRBpw1CHvstfFP_46aoLPWdvDwg==" target="_blank"><strong><span style="color:#1956D8\;"><span style="font-family:arial\,sans-serif\;"><span style="font-size:12.0pt\;">F S Roofing</span></span></span></strong></a></span></span></span><span style="color:#1A191A\;"><span style="font-family:arial\,sans-serif\;"><span style="font-size:12.0pt\;">\, </span></span></span><span style="color:#1A191A\;"><span style="font-family:open sans\,sans-serif\;"><span style="font-size:11.5pt\;"><a href="https://8xc5xpeab.cc.rs6.net/tn.jsp?f=001cP6J-aIUllevXcxH1cDSoN8BJUdssK9cCkBMwnOhOaJhd0YoV8J8D9II0--QRssVwCZ4tWDbkICRQGvqd-PzqCvXUBO_cYo5_Hkhhz3d_rEBJnupjy1uGAQahbiTsKCK36isZJvrJzNz-q8OwQQsPMLS58438sXU&amp\;c=jjBvRnpL5VZwttkMq08VfK-hGUv2mNf5TIKRky0fmekyA11wdVcFhw==&amp\;ch=03XGX_cHKv8LFzr8lj7PY_K4BekIRBpw1CHvstfFP_46aoLPWdvDwg==" target="_blank"><strong><span style="color:#1956D8\;"><span style="font-family:arial\,sans-serif\;"><span style="font-size:12.0pt\;">Kiwanis Club of Petoskey</span></span></span></strong></a></span></span></span><span style="color:#1A191A\;"><span style="font-family:arial\,sans-serif\;"><span style="font-size:12.0pt\;">\, </span></span></span><span style="color:#1A191A\;"><span style="font-family:open sans\,sans-serif\;"><span style="font-size:11.5pt\;"><a href="https://8xc5xpeab.cc.rs6.net/tn.jsp?f=001cP6J-aIUllevXcxH1cDSoN8BJUdssK9cCkBMwnOhOaJhd0YoV8J8D-m65-rFdVRWHaeBY2Ob1vnAFc075gl_C5eOz4pF81cXre0kB0KthmnGH8GpMlLer42tPAixNHQlThn2tGFPloqAkwRYSDcNDg==&amp\;c=jjBvRnpL5VZwttkMq08VfK-hGUv2mNf5TIKRky0fmekyA11wdVcFhw==&amp\;ch=03XGX_cHKv8LFzr8lj7PY_K4BekIRBpw1CHvstfFP_46aoLPWdvDwg==" target="_blank"><strong><span style="color:#1956D8\;"><span style="font-family:arial\,sans-serif\;"><span style="font-size:12.0pt\;">Northern Technology Services</span></span></span></strong></a></span></span></span><span style="color:#1A191A\;"><span style="font-family:arial\,sans-serif\;"><span style="font-size:12.0pt\;">\, and </span></span></span><span style="color:#1A191A\;"><span style="font-family:open sans\,sans-serif\;"><span style="font-size:11.5pt\;"><a href="https://8xc5xpeab.cc.rs6.net/tn.jsp?f=001cP6J-aIUllevXcxH1cDSoN8BJUdssK9cCkBMwnOhOaJhd0YoV8J8D6kjCcSCTd2y2aZLFAT4W7MBeOM8filAUUrwlWMSN60VYz93TN4trBp4w3Fi7EZeeZ-2LMqPPoK4jmDDf179Ff7xuPRlKjak2A==&amp\;c=jjBvRnpL5VZwttkMq08VfK-hGUv2mNf5TIKRky0fmekyA11wdVcFhw==&amp\;ch=03XGX_cHKv8LFzr8lj7PY_K4BekIRBpw1CHvstfFP_46aoLPWdvDwg==" target="_blank"><strong><span style="color:#1956D8\;"><span style="font-family:arial\,sans-serif\;"><span style="font-size:12.0pt\;">Northmen Den Youth Services</span></span></span></strong></a></span></span></span><span style="color:#1A191A\;"><span style="font-family:arial\,sans-serif\;"><span style="font-size:12.0pt\;">.&nbsp\;</span></span></span></p>\n</div>\n</div>\n</div>\n
LOCATION:City Park Grill
UID:e.1318.42538
SEQUENCE:3
DTSTAMP:20260422T121913Z
URL:https://www.petoskeychamber.com/events/details/business-after-hours-may-2026-42538
END:VEVENT

END:VCALENDAR
