BEGIN:VCALENDAR
VERSION:2.0
PRODID:-//ChamberMaster//Event Calendar 2.0//EN
METHOD:PUBLISH
X-PUBLISHED-TTL:P3D
REFRESH-INTERVAL:P3D
CALSCALE:GREGORIAN
BEGIN:VEVENT
DTSTART:20191001T220000Z
DTEND:20191002T010000Z
X-MICROSOFT-CDO-ALLDAYEVENT:FALSE
SUMMARY:Charlie Millard Pun Piano
DESCRIPTION:Charlie Millard returns for his monthly pub piano set at Beards
X-ALT-DESC;FMTTYPE=text/html:Charlie Millard returns for his monthly pub piano set at Beards
LOCATION:Beards Brewery 215 E Lake Street Petoskey\, MI 49770
UID:e.1318.21391
SEQUENCE:3
DTSTAMP:20260424T082028Z
URL:https://www.petoskeychamber.com/events/details/charlie-millard-pun-piano-21391
END:VEVENT

END:VCALENDAR
