BEGIN:VCALENDAR
VERSION:2.0
PRODID:-//ChamberMaster//Event Calendar 2.0//EN
METHOD:PUBLISH
X-PUBLISHED-TTL:P3D
REFRESH-INTERVAL:P3D
CALSCALE:GREGORIAN
BEGIN:VEVENT
DTSTART:20230323T230000Z
DTEND:20230324T010000Z
X-MICROSOFT-CDO-ALLDAYEVENT:FALSE
SUMMARY:Community Connections
DESCRIPTION:A Men's Group Community Connections meeting is taking place from 7-9pm on Thursday\, March 23. It is an opportunity to connect with other local men who are interested in ending gender-based violence and creating safe and thriving communities where all people are:\n\n- Free from harm\n\n- Feel safe\, supported and believed\n\n- Know they are seen and valued\n\n- Are able to realize their full potential\n\n \n\nThis group welcomes new participants and will further explore topics discussed during the October meeting.\n\n \n\nCommunity Connections will take place at the Demmer Wellness Pavilion located at 820 Arlington Avenue in Petoskey. Light refreshments will be provided. To learn more or RSVP\, contact Megan King\, Women's Resource Center of Northern Michigan's Violence Prevention Coordinator by email or call (231) 347-1572.
X-ALT-DESC;FMTTYPE=text/html:<p>A Men&#39\;s Group Community Connections meeting is taking place from 7-9pm on Thursday\, March 23. It is an opportunity to connect with other local men who are interested in ending gender-based violence and creating safe and thriving communities where all people are:<br />\n- Free from harm<br />\n- Feel safe\, supported and believed<br />\n- Know they are seen and valued<br />\n- Are able to realize their full potential<br />\n&nbsp\;<br />\nThis group welcomes new participants and will further explore topics discussed during the October meeting.<br />\n&nbsp\;<br />\nCommunity Connections will take place at the Demmer Wellness Pavilion located at 820 Arlington Avenue in Petoskey. Light refreshments will be provided. To learn more or RSVP\, contact Megan King\, Women&rsquo\;s Resource Center of Northern Michigan&rsquo\;s Violence Prevention Coordinator by <a href="mailto:mking@wrcnm.org">email</a> or call (231) 347-1572.</p>\n
LOCATION:
UID:e.1318.28765
SEQUENCE:3
DTSTAMP:20260420T184551Z
URL:https://www.petoskeychamber.com/events/details/community-connections-03-23-2023-28765
END:VEVENT

END:VCALENDAR
