BEGIN:VCALENDAR
VERSION:2.0
PRODID:-//ChamberMaster//Event Calendar 2.0//EN
METHOD:PUBLISH
X-PUBLISHED-TTL:P3D
REFRESH-INTERVAL:P3D
CALSCALE:GREGORIAN
BEGIN:VEVENT
DTSTART;VALUE=DATE:20240405
DTEND;VALUE=DATE:20240406
TRANSP:TRANSPARENT
X-MICROSOFT-CDO-ALLDAYEVENT:TRUE
SUMMARY:Downtown Petoskey Staycation
DESCRIPTION:Whether looking for a weekend getaway or a midweek break\, Downtown Petoskey has everything you need for a rejuvenating staycation. Take advantage of the opportunity to experience the best of your own backyard!\n\nStaycation at the Stafford's Perry Hotel:\n\nStandard room starting at $159\n\nAvailable Midweek and Weekends March 22   April 5\, 2024\n\nOffer Includes:\n\n\n	Your Guestroom for one night\n	$25 Breakfast credit to dine in our H.O. Rose Dining Room\n	$40 in Stafford's Noggin Room Bucks\n	$50 in Downtown Dollars \n\n\nCall  231-347-4000 for more information and to reserve your staycation today!
X-ALT-DESC;FMTTYPE=text/html:<p style="box-sizing: inherit\; border: 0px\; font-size: 18px\; margin: 0px 0px 1.3em\; outline: 0px\; padding: 0px\; vertical-align: baseline\; color: rgb(10\, 10\, 9)\; font-family: Lato\, sans-serif\;">Whether looking for a weekend getaway or a midweek break\,&nbsp\;<a href="https://www.petoskeydowntown.com/directory/" style="box-sizing: inherit\; background-color: transparent\; text-decoration-line: none\; color: var(--ast-global-color-0)\; transition: all 0.2s linear 0s\;">Downtown Petoske</a>y has everything you need for a rejuvenating staycation. Take advantage of the opportunity to experience the best of your own backyard!</p>\n\n<p style="box-sizing: inherit\; border: 0px\; font-size: 18px\; margin: 0px 0px 1.3em\; outline: 0px\; padding: 0px\; vertical-align: baseline\; color: rgb(10\, 10\, 9)\; font-family: Lato\, sans-serif\;"><a href="https://www.theperryhotel.com/lodging-packages/" style="box-sizing: inherit\; background-color: transparent\; text-decoration-line: none\; color: var(--ast-global-color-0)\; transition: all 0.2s linear 0s\;"><span style="box-sizing: inherit\; font-weight: 700\;">Staycation at the Stafford&rsquo\;s Perry Hotel:</span></a></p>\n\n<p style="box-sizing: inherit\; border: 0px\; font-size: 18px\; margin: 0px 0px 1.3em\; outline: 0px\; padding: 0px\; vertical-align: baseline\; color: rgb(10\, 10\, 9)\; font-family: Lato\, sans-serif\;">Standard room starting at $159</p>\n\n<p style="box-sizing: inherit\; border: 0px\; font-size: 18px\; margin: 0px 0px 1.3em\; outline: 0px\; padding: 0px\; vertical-align: baseline\; color: rgb(10\, 10\, 9)\; font-family: Lato\, sans-serif\;"><span style="box-sizing: inherit\; font-weight: 700\;">Available Midweek and Weekends March 22 &ndash\; April 5\, 2024</span><br style="box-sizing: inherit\;" />\nOffer Includes:</p>\n\n<ul style="box-sizing: border-box\; border: 0px\; font-size: 18px\; margin: 0px 0px 1.5em 3em\; outline: 0px\; padding-right: 0px\; padding-left: 0px\; vertical-align: baseline\; list-style-position: initial\; list-style-image: initial\; color: rgb(10\, 10\, 9)\; font-family: Lato\, sans-serif\;">\n	<li style="box-sizing: inherit\; border: 0px\; font-style: inherit\; font-weight: inherit\; margin: 0px\; outline: 0px\; padding: 0px\; vertical-align: baseline\;">Your Guestroom for one night</li>\n	<li style="box-sizing: inherit\; border: 0px\; font-style: inherit\; font-weight: inherit\; margin: 0px\; outline: 0px\; padding: 0px\; vertical-align: baseline\;">$25 Breakfast credit to dine in our&nbsp\;<a href="https://www.theperryhotel.com/on-site-dining/" style="box-sizing: inherit\; background-color: transparent\; text-decoration-line: none\; color: var(--ast-global-color-0)\; transition: all 0.2s linear 0s\;">H.O. Rose Dining Room</a></li>\n	<li style="box-sizing: inherit\; border: 0px\; font-style: inherit\; font-weight: inherit\; margin: 0px\; outline: 0px\; padding: 0px\; vertical-align: baseline\;">$40 in&nbsp\;<a href="https://www.nogginroom.com/" style="box-sizing: inherit\; background-color: transparent\; text-decoration-line: none\; color: var(--ast-global-color-0)\; transition: all 0.2s linear 0s\;">Stafford&rsquo\;s Noggin Room&nbsp\;</a>Bucks</li>\n	<li style="box-sizing: inherit\; border: 0px\; font-style: inherit\; font-weight: inherit\; margin: 0px\; outline: 0px\; padding: 0px\; vertical-align: baseline\;">$50 in&nbsp\;<a href="https://www.petoskeydowntown.com/about/downtown-dollars-1/#:~:text=You%20can%20purchase%20the%20Downtown\,through%20Friday%20during%20business%20hours." style="box-sizing: inherit\; background-color: transparent\; text-decoration-line: none\; color: var(--ast-global-color-0)\; transition: all 0.2s linear 0s\;">Downtown Dollars&nbsp\;</a></li>\n</ul>\n\n<p style="box-sizing: inherit\; border: 0px\; font-size: 18px\; margin: 0px 0px 1.3em\; outline: 0px\; padding: 0px\; vertical-align: baseline\; color: rgb(10\, 10\, 9)\; font-family: Lato\, sans-serif\;"><span style="box-sizing: inherit\; font-weight: 700\;">Call &nbsp\;<a href="tel:231-347-4000" style="box-sizing: inherit\; background-color: transparent\; text-decoration-line: none\; color: var(--ast-global-color-0)\; transition: all 0.2s linear 0s\;">231-347-4000</a>&nbsp\;for more information and to reserve your staycation today!</span></p>\n
LOCATION:
UID:e.1318.31518
SEQUENCE:3
DTSTAMP:20260422T083734Z
URL:https://www.petoskeychamber.com/events/details/downtown-petoskey-staycation-04-05-2024-31518
END:VEVENT

END:VCALENDAR
