BEGIN:VCALENDAR
VERSION:2.0
PRODID:-//ChamberMaster//Event Calendar 2.0//EN
METHOD:PUBLISH
X-PUBLISHED-TTL:P3D
REFRESH-INTERVAL:P3D
CALSCALE:GREGORIAN
BEGIN:VEVENT
DTSTART:20260421T213000Z
DTEND:20260421T224500Z
X-MICROSOFT-CDO-ALLDAYEVENT:FALSE
SUMMARY:Evening Playgroup at the Library
DESCRIPTION:Tuesdays and Thursdays at the Library\, come play in your pajamas! The children's program room will be open for ages 0-5 and their caregiver(s) for an evening playgroup.
X-ALT-DESC;FMTTYPE=text/html:Tuesdays and Thursdays at the Library\, come play in your pajamas! The children's program room will be open for ages 0-5 and their caregiver(s) for an evening playgroup.
LOCATION:Petoskey District Library
UID:e.1318.42500
SEQUENCE:3
DTSTAMP:20260421T010517Z
URL:https://www.petoskeychamber.com/events/details/evening-playgroup-at-the-library-04-21-2026-42500
END:VEVENT

END:VCALENDAR
