BEGIN:VCALENDAR
VERSION:2.0
PRODID:-//ChamberMaster//Event Calendar 2.0//EN
METHOD:PUBLISH
X-PUBLISHED-TTL:P3D
REFRESH-INTERVAL:P3D
CALSCALE:GREGORIAN
BEGIN:VEVENT
DTSTART:20260524T163000Z
DTEND:20260524T193000Z
X-MICROSOFT-CDO-ALLDAYEVENT:FALSE
SUMMARY:Live Music at Brandy's Harbortown: Adam and the Cabana Boys
DESCRIPTION:Come in for dinner and drinks with friends and enjoy live music by Adam and the Cabana Boys!
X-ALT-DESC;FMTTYPE=text/html:<span style="background-color:rgb(255\, 255\, 255)\; color:rgb(51\, 51\, 51)\; font-family:sans-serif\,arial\,verdana\,trebuchet ms\; font-size:13px">Come in for dinner and drinks with friends and enjoy live music by Adam and the Cabana Boys!</span>
LOCATION:Brandy's Harbortown
UID:e.1318.42557
SEQUENCE:3
DTSTAMP:20260425T152924Z
URL:https://www.petoskeychamber.com/events/details/live-music-at-brandy-s-harbortown-adam-and-the-cabana-boys-42557
END:VEVENT

END:VCALENDAR
