BEGIN:VCALENDAR
VERSION:2.0
PRODID:-//ChamberMaster//Event Calendar 2.0//EN
METHOD:PUBLISH
X-PUBLISHED-TTL:P3D
REFRESH-INTERVAL:P3D
CALSCALE:GREGORIAN
BEGIN:VEVENT
DTSTART:20260509T210000Z
DTEND:20260510T000000Z
X-MICROSOFT-CDO-ALLDAYEVENT:FALSE
SUMMARY:Live Music at Brandy's Harbortown: Brian Thomas
DESCRIPTION:Come in for dinner and drinks with friends and enjoy live music by Brian Thomas!
X-ALT-DESC;FMTTYPE=text/html:Come in for dinner and drinks with friends and enjoy live music by Brian Thomas!
LOCATION:Brandy's Harbortown
UID:e.1318.41962
SEQUENCE:3
DTSTAMP:20260425T150535Z
URL:https://www.petoskeychamber.com/events/details/live-music-at-brandy-s-harbortown-brian-thomas-41962
END:VEVENT

END:VCALENDAR
