BEGIN:VCALENDAR
VERSION:2.0
PRODID:-//ChamberMaster//Event Calendar 2.0//EN
METHOD:PUBLISH
X-PUBLISHED-TTL:P3D
REFRESH-INTERVAL:P3D
CALSCALE:GREGORIAN
BEGIN:VEVENT
DTSTART:20260507T210000Z
DTEND:20260508T000000Z
X-MICROSOFT-CDO-ALLDAYEVENT:FALSE
SUMMARY:Live Music at Brandy's Harbortown: Chris Calleja
DESCRIPTION:Come in for dinner and drinks with friends and enjoy live music by Chris Calleja!\n\n\n\nChris Calleja\, singer and guitarist\, playing classic songs from days gone by\, and some you've forgotten.
X-ALT-DESC;FMTTYPE=text/html:Come in for dinner and drinks with friends and enjoy live music by Chris Calleja!<br />\n<br />\n<em>Chris Calleja\, singer and guitarist\, playing classic songs from days gone by\, and some you&rsquo\;ve forgotten.&nbsp\;</em>
LOCATION:Brandy's Harbortown
UID:e.1318.42494
SEQUENCE:3
DTSTAMP:20260425T150955Z
URL:https://www.petoskeychamber.com/events/details/live-music-at-brandy-s-harbortown-chris-calleja-05-07-2026-42494
END:VEVENT

END:VCALENDAR
