BEGIN:VCALENDAR
VERSION:2.0
PRODID:-//ChamberMaster//Event Calendar 2.0//EN
METHOD:PUBLISH
X-PUBLISHED-TTL:P3D
REFRESH-INTERVAL:P3D
CALSCALE:GREGORIAN
BEGIN:VEVENT
DTSTART:20260508T210000Z
DTEND:20260509T000000Z
X-MICROSOFT-CDO-ALLDAYEVENT:FALSE
SUMMARY:Live Music at Brandy's Harbortown: Derek Boik
DESCRIPTION:Come in for dinner and drinks with friends and enjoy live music by Derek Boik!\n\nDerek Boik is a solo percussive acoustic musician\, who plays all over northern MI with over 25 years of professional live music experience with a 500+ song repertoire\, which includes 60s- present day\, blues\, Motown\, classic and alternative rock\, folk and pop.
X-ALT-DESC;FMTTYPE=text/html:<p>Come in for dinner and drinks with friends and enjoy live music by Derek Boik!</p>\n\n<p>Derek Boik is a solo percussive acoustic musician\, who plays all over northern MI with over 25 years of professional live music experience with a 500+ song repertoire\, which includes 60s- present day\, blues\, Motown\, classic and alternative rock\, folk and pop.&nbsp\;</p>\n
LOCATION:Brandy's Harbortown
UID:e.1318.42495
SEQUENCE:3
DTSTAMP:20260425T152837Z
URL:https://www.petoskeychamber.com/events/details/live-music-at-brandy-s-harbortown-derek-boik-05-08-2026-42495
END:VEVENT

END:VCALENDAR
