BEGIN:VCALENDAR
VERSION:2.0
PRODID:-//ChamberMaster//Event Calendar 2.0//EN
METHOD:PUBLISH
X-PUBLISHED-TTL:P3D
REFRESH-INTERVAL:P3D
CALSCALE:GREGORIAN
BEGIN:VEVENT
DTSTART:20260530T210000Z
DTEND:20260531T000000Z
X-MICROSOFT-CDO-ALLDAYEVENT:FALSE
SUMMARY:Live Music at Brandy's Harbortown: Derek Boik
DESCRIPTION:Come in for dinner and drinks with friends and enjoy live music by Derek Boik!\n\n\n\nDerek Boik is a solo percussive acoustic musician\, who plays all over northern MI with over 25 years of professional live music experience with a 500+ song repertoire\, which includes 60s- present day\, blues\, Motown\, classic and alternative rock\, folk and pop.
X-ALT-DESC;FMTTYPE=text/html:Come in for dinner and drinks with friends and enjoy live music by Derek Boik!<br />\n<br />\nDerek Boik is a solo percussive acoustic musician\, who plays all over northern MI with over 25 years of professional live music experience with a 500+ song repertoire\, which includes 60s- present day\, blues\, Motown\, classic and alternative rock\, folk and pop.&nbsp\;
LOCATION:Brandy's Harbortown
UID:e.1318.42556
SEQUENCE:3
DTSTAMP:20260425T152919Z
URL:https://www.petoskeychamber.com/events/details/live-music-at-brandy-s-harbortown-derek-boik-05-30-2026-42556
END:VEVENT

END:VCALENDAR
