BEGIN:VCALENDAR
VERSION:2.0
PRODID:-//ChamberMaster//Event Calendar 2.0//EN
METHOD:PUBLISH
X-PUBLISHED-TTL:P3D
REFRESH-INTERVAL:P3D
CALSCALE:GREGORIAN
BEGIN:VEVENT
DTSTART:20260501T210000Z
DTEND:20260502T000000Z
X-MICROSOFT-CDO-ALLDAYEVENT:FALSE
SUMMARY:Live Music at Brandy's Harbortown: Jeff Schlehuber
DESCRIPTION:Come in for food and drinks with friends and enjoy live music by Jeff Schlehuber!
X-ALT-DESC;FMTTYPE=text/html:Come in for food and drinks with friends and enjoy live music by Jeff Schlehuber!&nbsp\;
LOCATION:Brandy's Harbortown
UID:e.1318.42492
SEQUENCE:3
DTSTAMP:20260425T150715Z
URL:https://www.petoskeychamber.com/events/details/live-music-at-brandy-s-harbortown-jeff-schlehuber-42492
END:VEVENT

END:VCALENDAR
