BEGIN:VCALENDAR
VERSION:2.0
PRODID:-//ChamberMaster//Event Calendar 2.0//EN
METHOD:PUBLISH
X-PUBLISHED-TTL:P3D
REFRESH-INTERVAL:P3D
CALSCALE:GREGORIAN
BEGIN:VEVENT
DTSTART:20260516T210000Z
DTEND:20260517T000000Z
X-MICROSOFT-CDO-ALLDAYEVENT:FALSE
SUMMARY:Live Music at Brandy's Harbortown: Lee Fayssoux
DESCRIPTION:Come in for dinner and drink with friends and enjoy live music by Lee Fayssoux from 5:00 to 8:00pm!
X-ALT-DESC;FMTTYPE=text/html:<span style="background-color:rgb(255\, 255\, 255)\; color:rgb(12\, 13\, 14)\; font-family:arial\; font-size:13px">Come in for dinner and drink with friends and enjoy live music by Lee Fayssoux from 5:00 to 8:00pm!</span>
LOCATION:Brandy's Harbortown
UID:e.1318.42550
SEQUENCE:3
DTSTAMP:20260425T153200Z
URL:https://www.petoskeychamber.com/events/details/live-music-at-brandy-s-harbortown-lee-fayssoux-05-16-2026-42550
END:VEVENT

END:VCALENDAR
