BEGIN:VCALENDAR
VERSION:2.0
PRODID:-//ChamberMaster//Event Calendar 2.0//EN
METHOD:PUBLISH
X-PUBLISHED-TTL:P3D
REFRESH-INTERVAL:P3D
CALSCALE:GREGORIAN
BEGIN:VEVENT
DTSTART:20260529T210000Z
DTEND:20260530T000000Z
X-MICROSOFT-CDO-ALLDAYEVENT:FALSE
SUMMARY:Live Music at Brandy's Harbortown: Nelson Olstrom
DESCRIPTION:Come in for dinner and drinks with friends and enjoy live music by Nelson Olstrom!\n\n\n\nSinger\, songwriter\, Nelson Olstrom was born and raised in Northern Michigan. Although he spent his formative years "up north"\, he has spent many years performing from the Midwest to Florida\, Switzerland\, Finland and Sweden\, before returning home to Northern Michigan. Nelson can be found playing acoustic or electric guitar along with vocals and harmonica\, creating a sound that fuels a long and eclectic list of original and cover songs.
X-ALT-DESC;FMTTYPE=text/html:Come in for dinner and drinks with friends and enjoy live music by Nelson Olstrom!<br />\n<br />\nSinger\, songwriter\, Nelson Olstrom was born and raised in Northern Michigan. Although he spent his formative years &ldquo\;up north&rdquo\;\, he has spent many years performing from the Midwest to Florida\, Switzerland\, Finland and Sweden\, before returning home to Northern Michigan. Nelson can be found playing acoustic or electric guitar along with vocals and harmonica\, creating a sound that fuels a long and eclectic list of original and cover songs.
LOCATION:Brandy's Harbortown
UID:e.1318.42555
SEQUENCE:3
DTSTAMP:20260425T152756Z
URL:https://www.petoskeychamber.com/events/details/live-music-at-brandy-s-harbortown-nelson-olstrom-05-29-2026-42555
END:VEVENT

END:VCALENDAR
