BEGIN:VCALENDAR
VERSION:2.0
PRODID:-//ChamberMaster//Event Calendar 2.0//EN
METHOD:PUBLISH
X-PUBLISHED-TTL:P3D
REFRESH-INTERVAL:P3D
CALSCALE:GREGORIAN
BEGIN:VEVENT
DTSTART:20260514T210000Z
DTEND:20260515T000000Z
X-MICROSOFT-CDO-ALLDAYEVENT:FALSE
SUMMARY:Live Music at Brandy's Harbortown: Two Track Mind
DESCRIPTION:Come in for dinner and drink with friends and enjoy live music by Two Track Mind from 5:00 to 8:00pm!
X-ALT-DESC;FMTTYPE=text/html:<span style="background-color:rgb(255\, 255\, 255)\; color:rgb(12\, 13\, 14)\; font-family:arial\; font-size:13px">Come in for dinner and drink with friends and enjoy live music by Two Track Mind from 5:00 to 8:00pm!</span>
LOCATION:Brandy's Harbortown
UID:e.1318.42548
SEQUENCE:3
DTSTAMP:20260425T150541Z
URL:https://www.petoskeychamber.com/events/details/live-music-at-brandy-s-harbortown-two-track-mind-42548
END:VEVENT

END:VCALENDAR
