BEGIN:VCALENDAR
VERSION:2.0
PRODID:-//ChamberMaster//Event Calendar 2.0//EN
METHOD:PUBLISH
X-PUBLISHED-TTL:P3D
REFRESH-INTERVAL:P3D
CALSCALE:GREGORIAN
BEGIN:VEVENT
DTSTART:20260502T210000Z
DTEND:20260503T000000Z
X-MICROSOFT-CDO-ALLDAYEVENT:FALSE
SUMMARY:Live Music at Brandy's Harbortown: Will Springsteen
DESCRIPTION:Come in for dinner and drinks with friends and enjoy live music by Will Springsteen!
X-ALT-DESC;FMTTYPE=text/html:Come in for dinner and drinks with friends and enjoy live music by Will Springsteen!
LOCATION:Brandy's Harbortown
UID:e.1318.42493
SEQUENCE:3
DTSTAMP:20260425T150515Z
URL:https://www.petoskeychamber.com/events/details/live-music-at-brandy-s-harbortown-will-springsteen-42493
END:VEVENT

END:VCALENDAR
