BEGIN:VCALENDAR
VERSION:2.0
PRODID:-//ChamberMaster//Event Calendar 2.0//EN
METHOD:PUBLISH
X-PUBLISHED-TTL:P3D
REFRESH-INTERVAL:P3D
CALSCALE:GREGORIAN
BEGIN:VEVENT
DTSTART:20260510T150000Z
DTEND:20260510T190000Z
X-MICROSOFT-CDO-ALLDAYEVENT:FALSE
SUMMARY:Mother's Day Brunch at Hotel Perry
DESCRIPTION:This Mother's Day\, gather the family\, raise a glass\, and create unforgettable moments at Hotel Perry - because Mom deserves nothing less than extraordinary.\n\nAll Moms will enjoy a complimentary flower bouquet bar to experience the joy of creating their own bouquet.\n\nReservations Required: 231-347-4000
X-ALT-DESC;FMTTYPE=text/html:<p>This Mother&rsquo\;s Day\, gather the family\, raise a glass\, and create unforgettable moments at Hotel Perry - because Mom deserves nothing less than extraordinary.</p>\n\n<p>All Moms will enjoy a complimentary flower bouquet bar to experience the joy of creating their own bouquet.</p>\n\n<p>Reservations Required: 231-347-4000</p>\n
LOCATION:Hotel Perry 100 Lewis Street\, Petoskey
UID:e.1318.42043
SEQUENCE:3
DTSTAMP:20260421T212309Z
URL:https://www.petoskeychamber.com/events/details/mother-s-day-brunch-at-hotel-perry-42043
END:VEVENT

END:VCALENDAR
