BEGIN:VCALENDAR
VERSION:2.0
PRODID:-//ChamberMaster//Event Calendar 2.0//EN
METHOD:PUBLISH
X-PUBLISHED-TTL:P3D
REFRESH-INTERVAL:P3D
CALSCALE:GREGORIAN
BEGIN:VEVENT
DTSTART:20260509T190000Z
DTEND:20260509T200000Z
X-MICROSOFT-CDO-ALLDAYEVENT:FALSE
SUMMARY:Northern Michigan Chorale presents "Choral Compass" Concert
DESCRIPTION:Northern Michigan Chorale (NMC) presents "Choral Compass: Navigating the World One Song at a Time" on Friday\, May 8th at 7 PM and Saturday\, May 9th at 3 PM at the Great Lakes Center for the Arts in Bay Harbor.  The spring concert features popular music as well as traditional music with creative choral arrangements. This community group\, in its 44th year\, is directed by Michael Mitrovich\, and accompanied by Cynda Coleman. Tickets ($15 for adults\, $12 for students and seniors\, free for age 10 and under) are available from chorale members and at the NMC welcome table in the lobby before the performance. In addition\, they are available online at www.greatlakescfa.org. This concert is presented with generous support from NorthGoods in downtown Petoskey and from community supporters. For further information\, visit www.nmchorale.org.
X-ALT-DESC;FMTTYPE=text/html:Northern Michigan Chorale (NMC) presents &ldquo\;Choral Compass: Navigating the World One Song at a Time&rdquo\; on Friday\, May 8th at 7 PM and Saturday\, May 9th at 3 PM at the Great Lakes Center for the Arts in Bay Harbor.&nbsp\; The spring concert features popular music as well as traditional music with creative choral arrangements. This community group\, in its 44<sup>th</sup> year\, is directed by Michael Mitrovich\, and accompanied by Cynda Coleman. Tickets ($15 for adults\, $12 for students and seniors\, free for age 10 and under) are available from chorale members and at the NMC welcome table in the lobby before the performance. In addition\, they are available online at <a href="http://www.greatlakescfa.org" style="color:rgb(70\, 120\, 134)\;">www.greatlakescfa.org</a>. This concert is presented with generous support from NorthGoods in downtown Petoskey and from community supporters. For further information\, visit <a href="http://www.nmchorale.org" style="color:rgb(70\, 120\, 134)\;">www.nmchorale.org</a>.<br />\n&nbsp\;
LOCATION:Great Lakes Center for the Arts 800 Bay Harbor Dr. Bay Harbor\, Petoskey
UID:e.1318.42481
SEQUENCE:3
DTSTAMP:20260421T064712Z
URL:https://www.petoskeychamber.com/events/details/northern-michigan-chorale-presents-choral-compass-concert-05-09-2026-42481
END:VEVENT

END:VCALENDAR
