BEGIN:VCALENDAR
VERSION:2.0
PRODID:-//ChamberMaster//Event Calendar 2.0//EN
METHOD:PUBLISH
X-PUBLISHED-TTL:P3D
REFRESH-INTERVAL:P3D
CALSCALE:GREGORIAN
BEGIN:VEVENT
DTSTART:20231108T220000Z
DTEND:20231109T010000Z
X-MICROSOFT-CDO-ALLDAYEVENT:FALSE
SUMMARY:Petoskey Business Expo - 2023
DESCRIPTION:The Petoskey Chamber's much loved Business Expo is taking place at Nubs Nob on November 8! Public is welcome to attend! \n\nWe have 50 exhibitors\, and awesome food from area restaurants featuring 'A Taste of Petoskey.'\n\n\n\nParticipating 'Taste of Petoskey' Restaurants\n\nLittle Bay Gourmet\n\nMancino's of Petoskey\n\nMaple & Batter\n\nNOMAD.\n\nRusty Saw North\n\nSassy Loon in Northern Lights Recreation\n\nStafford's Hospitality \n\nThis public event is the area's largest networking event of the year and one of the best business to business opportunities in Northern Michigan! You don't want to miss your chance to have your business or organization be a part of this expo.\n\nCome for a great evening that showcases our area and enjoy networking\, food\, fun\, plus fabulous door prizes from great businesses and organizations from across the area. \n\nThank you to our Gold Exhibiting Sponsors: 5 Star Screen printing\, Blue Cross Blue Shield of Michigan\, Burdco Incorporated\, Common Angle\, Dodson Payment Solutions\, Drost Landscape\, First Community Bank\, Grand Traverse Ophthalmology\, Huntington Bank\, Northland Area Credit Union.\n\n\n\nMust be a current Petoskey Chamber Member to be an exhibitor.\n\nSpaces are sold out\, to be added to the waitlist email emily@petoskeychamber.com
X-ALT-DESC;FMTTYPE=text/html:<div data-block="true" data-editor="6b6qo" data-offset-key="c663o-0-0" style="font-family: Helvetica\, Arial\, sans-serif\; color: rgb(29\, 33\, 41)\; font-size: 12px\; white-space: pre-wrap\;">\n<div class="_1mf _1mj" data-offset-key="c663o-0-0" style="position: relative\; direction: ltr\; font-family: inherit\;"><span style="font-size:14px\;"><span style="font-family:arial\;"><strong><span style="color:black\;">The Petoskey Chamber&lsquo\;s much loved </span></strong><strong><span style="color:#2A2A2B\;">Business Expo is</span></strong><strong><span style="color:black\;"> taking place at Nubs Nob on</span></strong><strong><span style="color:#2A2A2B\;"> November 8! Public is welcome to attend! </span></strong><br />\n<span style="color:black\;">We have </span><span style="color:#2A2A2B\;">50 exhibitors\, </span><span style="color:black\;">and awesome food from area restaurants</span><span style="color:#2A2A2B\;"> featuring &lsquo\;A Taste of Petoskey</span><span style="color:black\;">.</span><span style="color:#2A2A2B\;">&rsquo\;</span><br />\n<br />\nParticipating &#39\;Taste of Petoskey&#39\; Restaurants<br />\n<span style="font-size:16px\;"><a href="https://littlebaygourmet.com/">Little Bay Gourmet</a><br />\n<a href="https://www.mancinosofpetoskey.com/">Mancino&#39\;s of Petoskey</a></span></span></span></div>\n\n<div class="_1mf _1mj" data-offset-key="c663o-0-0" style="position: relative\; direction: ltr\; font-family: inherit\;"><span style="font-size:16px\;"><a href="https://www.mapleandbatter.com/"><span style="font-family:arial\;">Maple &amp\; Batter</span></a></span></div>\n\n<div class="_1mf _1mj" data-offset-key="c663o-0-0" style="position: relative\; direction: ltr\; font-family: inherit\;"><span style="font-size:16px\;"><span style="font-family:arial\;"><a href="https://www.nomadbayharbor.com/">NOMAD.</a></span><br />\n<a href="https://www.rustysawnorth.com/"><span style="font-family: Helvetica\, Arial\, sans-serif\; white-space-collapse: preserve\;">Rusty Saw North</span></a><br />\n<a href="http://www.northernlightsrec.com/dining.html">Sassy Loon in Northern Lights Recreation</a><br />\n<a href="https://www.staffords.com/">Stafford&#39\;s Hospitality </a></span><br />\n<span style="font-size:14px\;"><span style="font-family:arial\;"><span style="color:#2A2A2B\;">This public event is the area&#39\;s largest networking event of the year and one of the best business to business opportunities in Northern Michigan! </span><span style="color:black\;">You don&rsquo\;t want to miss your chance to have your business or organization be a part of this expo.</span><br />\n<span style="color:#2A2A2B\;">Come for a great evening that showcases our area and enjoy networking\, food\, fun\, plus fabulous door prizes from great businesses and organizations from across the area.&nbsp\;<br />\n<strong>Thank you to our</strong> <strong>Gold Exhibiting Sponsors</strong>: <a href="https://fivestarscreenprintingplus.com/">5 Star Screen printing</a>\, <a href="https://www.bcbsm.com/">Blue Cross Blue Shield of Michigan\,</a> <a href="https://burdco.com/">Burdco Incorporated\,</a> <a href="https://commonangle.com/">Common Angle</a>\, <a href="https://www.dodsonpos.com/">Dodson Payment Solutions\,</a> <a href="https://www.drostlandscape.com/">Drost Landscape\,</a> <a href="https://www.firstcb.com/">First Community Bank</a>\, <a href="https://www.gtoc.net/">Grand Traverse Ophthalmology</a>\, <a href="https://www.huntington.com/">Huntington Bank</a>\, <a href="https://www.northlandcu.com/home">Northland Area Credit Union.</a></span></span></span></div>\n</div>\n\n<div data-block="true" data-editor="6b6qo" data-offset-key="b6cro-0-0" style="font-family: Helvetica\, Arial\, sans-serif\; color: rgb(29\, 33\, 41)\; font-size: 12px\; white-space: pre-wrap\;">\n<div class="_1mf _1mj" data-offset-key="b6cro-0-0" style="position: relative\; direction: ltr\; font-family: inherit\;"><span style="font-size:14px\;">Must be a current Petoskey Chamber Member to be an exhibitor.<br />\nSpaces are sold out\, to be added to the waitlist email emily@petoskeychamber.com</span><br />\n&nbsp\;</div>\n</div>\n
LOCATION:Nubs Nob
UID:e.1318.29521
SEQUENCE:3
DTSTAMP:20260424T183717Z
URL:https://www.petoskeychamber.com/events/details/petoskey-business-expo-2023-29521
END:VEVENT

END:VCALENDAR
