BEGIN:VCALENDAR
VERSION:2.0
PRODID:-//ChamberMaster//Event Calendar 2.0//EN
METHOD:PUBLISH
X-PUBLISHED-TTL:P3D
REFRESH-INTERVAL:P3D
CALSCALE:GREGORIAN
BEGIN:VEVENT
DTSTART:20190925T123000Z
DTEND:20190925T140000Z
X-MICROSOFT-CDO-ALLDAYEVENT:FALSE
SUMMARY:Protect Your Business From Embezzlement and Cybercrime Seminar
DESCRIPTION:The Petoskey Regional Chamber of Commerce and Tip of the Mitt SCORE Chapter 622 are hosting a present "Protect Your Business From Embezzlement and Cybercrime" seminar on Wednesday\, September 25.\n\n \n\nBecause of the increasing incidents of embezzlement and cybercrime occurring in this area and the seriousness of the consequences to all of the victims\, Tip of the Mitt SCORE and the Petoskey Chamber want businesses to learn how to protect themselves.\n\n\n\nThree speakers will help educate businesses on how to minimize your exposure. Matt Lierstein of Emmet County Sheriff's Office\, started his career as a Road Patrol Deputy where part of duties would include investigation of Embezzlement Cyber Crime. He is now the Detective Sergeant and will discuss cases he has invested involving embezzlement and cyber-crime.                 \n\n\n\nKevin Christman is a CPA with the Petoskey accounting firm of Rasmussen\, Teller\, O'Neil & Christman.  Kevin will explain how a small business can protect itself against embezzlement.\n\n\n\nStaff from the Michigan State Police\, Michigan Cyber Command Center (MC3) will discuss cybersecurity trends including: MC3 resources\, Identifying web addresses\, Identifying email addresses\, Social engineering methods\, Phishing tactics and current trend\, Ransomware and Password security.\n\n\n\nThe seminar will cover measures which you can and should take to prevent embezzlement and cybercrime in your organization.  Bring your questions and get answers from experts.\n\n \n\nThe seminar takes place Wednesday\, September 25 from 8:30am-10am at the Genesis Center 1124 Northmen Dr.\, Petoskey.  All area businesses are invited to attend. The cost is $20.00. Pre-registration is required by September 20. You can register online or call the Chamber at (231) 347-4150.
X-ALT-DESC;FMTTYPE=text/html:<p><span style="color:black\;"><span style="font-family:arial\,sans-serif\;"><span style="font-size:12.0pt\;">The Petoskey Regional Chamber of Commerce and Tip of the Mitt SCORE Chapter 622 are hosting a present &quot\;Protect Your Business From Embezzlement and Cybercrime&rdquo\; seminar on Wednesday\, September 25.</span></span></span><br />\n<span style="color:#333333\;"><span style="font-family:arial\,sans-serif\;"><span style="font-size:12.0pt\;">&nbsp\;<br />\nBecause of the increasing incidents of embezzlement and cybercrime occurring in this area and the seriousness of the consequences to all of the victims\, Tip of the Mitt SCORE and the Petoskey Chamber want businesses to learn how to protect themselves.</span></span></span><br />\n<br />\n<span style="color:#333333\;"><span style="font-family:arial\,sans-serif\;"><span style="font-size:12.0pt\;">Three speakers will help educate businesses on how to minimize your exposure.&nbsp\;Matt Lierstein of Emmet County Sheriff&rsquo\;s Office\,&nbsp\;started his career as a Road Patrol Deputy where part of duties would include investigation of Embezzlement Cyber Crime. He is now the Detective Sergeant and will discuss cases he has invested involving embezzlement and cyber-crime.&nbsp\;&nbsp\;&nbsp\;&nbsp\;&nbsp\;&nbsp\;&nbsp\;&nbsp\;&nbsp\;&nbsp\;&nbsp\;&nbsp\;&nbsp\;&nbsp\;&nbsp\;&nbsp\;&nbsp\;</span></span></span><br />\n<br />\n<span style="color:#333333\;"><span style="font-family:arial\,sans-serif\;"><span style="font-size:12.0pt\;">Kevin Christman is a CPA with the Petoskey accounting firm of Rasmussen\, Teller\, O&rsquo\;Neil &amp\; Christman.&nbsp\; Kevin will explain how a small business can protect itself against embezzlement.</span></span></span><br />\n<br />\n<span style="color:#333333\;"><span style="font-family:arial\,sans-serif\;"><span style="font-size:12.0pt\;">Staff from the Michigan State Police\, Michigan Cyber Command Center (MC3) will discuss cybersecurity trends including: MC3 resources\, Identifying web addresses\, Identifying email addresses\, Social engineering methods\, Phishing tactics and current trend\, Ransomware and Password security.<br />\n<br />\nThe seminar will cover measures which you can and should take to prevent embezzlement and cybercrime in your organization.&nbsp\; Bring your questions and get answers from experts.<br />\n&nbsp\;<br />\nThe seminar takes place Wednesday\, September 25&nbsp\;from 8:30am-10am at the Genesis Center 1124 Northmen Dr.\, Petoskey. &nbsp\;All area businesses are invited to attend. The cost is $20.00. Pre-registration is required by September 20. You can register online or call the Chamber at (231) 347-4150.</span></span></span><br />\n<span style="font-size:10.0pt\;font-family:\n&quot\;Arial&quot\;\,sans-serif\;color:#333333"><o:p></o:p></span></p>\n
LOCATION:Genesis Center 1124 Northmen Dr.\, Petoskey\, MI 49770.
UID:e.1318.21207
SEQUENCE:3
DTSTAMP:20260421T070647Z
URL:https://www.petoskeychamber.com/events/details/protect-your-business-from-embezzlement-and-cybercrime-seminar-21207
END:VEVENT

END:VCALENDAR
