BEGIN:VCALENDAR
VERSION:2.0
PRODID:-//ChamberMaster//Event Calendar 2.0//EN
METHOD:PUBLISH
X-PUBLISHED-TTL:P3D
REFRESH-INTERVAL:P3D
CALSCALE:GREGORIAN
BEGIN:VEVENT
DTSTART:20191204T230000Z
DTEND:20191205T013000Z
X-MICROSOFT-CDO-ALLDAYEVENT:FALSE
SUMMARY:RELAX--Alternatives to Anger!
DESCRIPTION:Anger affects everyone and can be hard to know how to handle. Learn the developmental stages of self-control in children\, understand what cortisol is and does\, be able to identify books that can assist children with self-control\, learn and be able to implement activities to assist with self-control and use RELAX concepts in daily interactions with children. This workshop is for parents and caregivers of children birth through kindergarten entry! Pre-Registration is required for this event. Please make sure that each individual attending registers separately. Please register by Tuesday\, November 26\, 2019.
X-ALT-DESC;FMTTYPE=text/html:Anger affects everyone and can be hard to know how to handle. Learn the developmental stages of self-control in children\, understand what cortisol is and does\, be able to identify books that can assist children with self-control\, learn and be able to implement activities to assist with self-control and use RELAX concepts in daily interactions with children. This workshop is for parents and caregivers of children birth through kindergarten entry! Pre-Registration is required for this event. Please make sure that each individual attending registers separately. Please register by Tuesday\, November 26\, 2019.
LOCATION:Health Department of Northwest Michigan (2nd Floor Conference Room) 3434 M-119\, Suite A Harbor Springs\, MI 49740
UID:e.1318.21963
SEQUENCE:3
DTSTAMP:20260420T125736Z
URL:https://www.petoskeychamber.com/events/details/relax-alternatives-to-anger-21963
END:VEVENT

END:VCALENDAR
