BEGIN:VCALENDAR
VERSION:2.0
PRODID:-//ChamberMaster//Event Calendar 2.0//EN
METHOD:PUBLISH
X-PUBLISHED-TTL:P3D
REFRESH-INTERVAL:P3D
CALSCALE:GREGORIAN
BEGIN:VEVENT
DTSTART:20260504T230000Z
DTEND:20260505T010000Z
X-MICROSOFT-CDO-ALLDAYEVENT:FALSE
SUMMARY:Star Wars: A New Hope
DESCRIPTION:May the 4th Calls for Something Legendary\n\n\nCelebrate Star Wars Day with Star Wars: A New Hope on the big screen as it was meant to be seen. Enjoy specialty drinks inspired by the galaxy\, including a Yoda Soda bar\, plus a photo op to mark the occasion.\n\nArrive early at 6:00PM and put your knowledge to the test with Star Wars trivia. Gather a team of up to six and see if your Jedi mind tricks are up to the challenge. Costumes are encouraged!
X-ALT-DESC;FMTTYPE=text/html:<h3><strong>May the 4th Calls for Something Legendary</strong></h3>\n\n<div style="background:transparent !important\; border:none !important\; padding:0px !important">\n<p style="margin-left:inherit !important\; margin-right:inherit !important">Celebrate Star Wars Day with&nbsp\;<em>Star Wars: A New Hope</em>&nbsp\;on the big screen&mdash\;as it was meant to be seen. Enjoy specialty drinks inspired by the galaxy\, including a Yoda Soda bar\, plus a photo op to mark the occasion.</p>\n\n<p style="margin-left:inherit !important\; margin-right:inherit !important">Arrive early at 6:00PM and put your knowledge to the test with Star Wars trivia. Gather a team of up to six and see if your Jedi mind tricks are up to the challenge. Costumes are encouraged!&nbsp\; &nbsp\; &nbsp\; &nbsp\;&nbsp\;</p>\n</div>\n
LOCATION:Great Lake Center for the Arts
UID:e.1318.42488
SEQUENCE:3
DTSTAMP:20260420T184714Z
URL:https://www.petoskeychamber.com/events/details/star-wars-a-new-hope-42488
END:VEVENT

END:VCALENDAR
