BEGIN:VCALENDAR
VERSION:2.0
PRODID:-//ChamberMaster//Event Calendar 2.0//EN
METHOD:PUBLISH
X-PUBLISHED-TTL:P3D
REFRESH-INTERVAL:P3D
CALSCALE:GREGORIAN
BEGIN:VEVENT
DTSTART:20180926T120000Z
DTEND:20180926T140000Z
X-MICROSOFT-CDO-ALLDAYEVENT:FALSE
SUMMARY:Thrive 45 Business Etiquette Workshop
DESCRIPTION:Expand your leadership skills with Cultivate: A Leadership Seminar Series presented by Thrive 45  in partnership with the Petoskey Regional Chamber of Commerce. This series is an opportunity to learn from topical experts and enhance your problem-solving skills\, leadership style\, improve soft-skills\, planning\, organization and more. Special thanks to Fletch's GMC Buick Audi for sponsoring this workshop\n\nThis workshop focuses on Business Etiquette. There will be three presenters who will focus on Conflict Resolution\, Networking Tips and Tricks and Meeting Etiquette. Business etiquette is full of little-known rules and best-practices. Don't be caught unaware next time you have a lunch meeting\, conference call\, or bring presentation.  \n\nWhat is Thrive 45 ?\n\nWe are a young professionals group serving Northern Michigan above the 45th parallel. Our Vision is to see thriving young professionals live\, work\, play\, and stay in Northern Michigan. \n\n \n\nOur Mission is to bring young professionals together to build meaningful friendships and connections. By empowering our members to create opportunities for themselves and others\, we foster lasting positive social and economic change.\n\n \n\nTogether\, we amplify the voice of young professionals in Northern Michigan.
X-ALT-DESC;FMTTYPE=text/html:<p><span style="font-size:14px\;">Expand your leadership skills with&nbsp\;<strong>Cultivate: A Leadership Seminar Series</strong>&nbsp\;presented by Thrive 45&deg\; in partnership with the Petoskey Regional Chamber of Commerce. This series is an opportunity to learn from topical experts and enhance your problem-solving skills\, leadership style\, improve soft-skills\, planning\, organization and more. Special thanks to&nbsp\;<a href="https://www.fletchs.com/">Fletch&#39\;s GMC Buick Audi</a> for sponsoring this workshop</span></p>\n\n<p><span style="font-size:14px\;">This workshop focuses on Business Etiquette. There will be three presenters who will focus on Conflict Resolution\, Networking Tips and Tricks and Meeting Etiquette. Business etiquette is full of little-known rules and best-practices. Don&#39\;t be caught unaware next time you have a lunch meeting\, conference call\, or bring presentation.&nbsp\;&nbsp\;</span></p>\n\n<p><span style="font-size:14px\;"><span style="letter-spacing:.4pt\;"><span style="color:black\;">What is Thrive 45&deg\;?<br />\nWe are a young professionals group serving Northern Michigan above the 45th parallel. Our Vision is to see thriving young professionals live\, work\, play\, and stay in Northern Michigan.&nbsp\;</span></span><br />\n&nbsp\;<br />\n<span style="letter-spacing:.4pt\;"><span style="color:black\;">Our Mission is to bring young professionals together to build meaningful friendships and connections. By empowering our members to create opportunities for themselves and others\, we foster lasting positive social and economic change.</span></span><br />\n&nbsp\;<br />\n<strong><span style="letter-spacing:.4pt\;"><span style="color:black\;">Together\, we amplify the voice of young professionals in Northern Michigan.</span></span></strong></span><br />\n&nbsp\;</p>\n
LOCATION:North Central Michigan College\, Library Conference Room. Map of the campus can be viewed here.
UID:e.1318.17854
SEQUENCE:3
DTSTAMP:20260425T201511Z
URL:https://www.petoskeychamber.com/events/details/thrive-45-business-etiquette-workshop-17854
END:VEVENT

END:VCALENDAR
