BEGIN:VCALENDAR
VERSION:2.0
PRODID:-//ChamberMaster//Event Calendar 2.0//EN
METHOD:PUBLISH
X-PUBLISHED-TTL:P3D
REFRESH-INTERVAL:P3D
CALSCALE:GREGORIAN
BEGIN:VEVENT
DTSTART:20260425T230000Z
DTEND:20260426T010000Z
X-MICROSOFT-CDO-ALLDAYEVENT:FALSE
SUMMARY:Violins of Hope
DESCRIPTION:Join us for Violins of Hope at Great Lakes Center For the Arts in Petoskey a local favorite for an unforgettable night of classical music. Whether you're a longtime concertgoer or just looking for a special evening out\, this is the kind of performance that brings the community together. Violins of Hope weaves powerful history into every note\, featuring instruments with remarkable stories and a sound that feels intimate\, human\, and deeply moving. Expect a program that honors resilience while delivering artistry at the highest level. The Great Lakes Center offers comfortable seating\, excellent sightlines\, and an easy-to-reach location that makes a night downtown feel effortless. Experience Violins of Hope Great Lakes Center For the Arts in a setting built for listening. Mark your calendar for 4/25/2026 at 7:00 PM come be part of Violins of Hope Petoskey and reserve your seats soon.
X-ALT-DESC;FMTTYPE=text/html:Join us for Violins of Hope at Great Lakes Center For the Arts in Petoskey&mdash\;a local favorite for an unforgettable night of classical music. Whether you&rsquo\;re a longtime concertgoer or just looking for a special evening out\, this is the kind of performance that brings the community together. Violins of Hope weaves powerful history into every note\, featuring instruments with remarkable stories and a sound that feels intimate\, human\, and deeply moving. Expect a program that honors resilience while delivering artistry at the highest level. The Great Lakes Center offers comfortable seating\, excellent sightlines\, and an easy-to-reach location that makes a night downtown feel effortless. Experience Violins of Hope Great Lakes Center For the Arts in a setting built for listening. Mark your calendar for 4/25/2026 at 7:00 PM&mdash\;come be part of Violins of Hope Petoskey and reserve your seats soon.
LOCATION:Great Lakes Center For the Arts
UID:e.1318.42033
SEQUENCE:3
DTSTAMP:20260424T083652Z
URL:https://www.petoskeychamber.com/events/details/violins-of-hope-42033
END:VEVENT

END:VCALENDAR
