BEGIN:VCALENDAR
VERSION:2.0
PRODID:-//ChamberMaster//Event Calendar 2.0//EN
METHOD:PUBLISH
X-PUBLISHED-TTL:P3D
REFRESH-INTERVAL:P3D
CALSCALE:GREGORIAN
BEGIN:VEVENT
DTSTART:20230608T170000Z
DTEND:20230608T180000Z
X-MICROSOFT-CDO-ALLDAYEVENT:FALSE
SUMMARY:Winfluence - Cybersecurity Considerations for small businesses
DESCRIPTION:We are rescheduling this workhshop for the Fall.\n\nCybersecurity Considerations for Small Businesses\n\nThe Petoskey Chamber is partnering with 5/3 Bank for this talk about cybersecurity areas that are the most important for our businesses of all sizes to think about.\n\n\n\nCybersecurity can seem overwhelming to a small business with few resources.  Where do you begin?  What are the most important things to consider?\n\n \n\nOur presenter is Lori Anello\, Senior Vice President and Chief Information Officer at Fifth Third Bank.  Lori Anello is the Chief Information Security Officer at Fifth Third Bank.  In this role\, Lori has overall responsibility for Fifth Third Bank's information security program.  Focused on protecting the customers\, employees and information of a bank with over $207 Billion in assets\, Lori and her team are implementing and maintaining programs and solutions designed to take advantage of the latest and best technologies and capabilities in the cybersecurity industry. \n\n\n\nThis will take place on zoom on Thursday\, June 9 from 1pm-2pm.  Free for any business to attend.  Winfluence programming is building stronger businesses through education and enrichment. This event is sponsored by Comfort Keepers.
X-ALT-DESC;FMTTYPE=text/html:<p class="xmsonormal"><span style="font-size:16px\;"><span style="font-family:arial\;"><strong>We&nbsp\;are rescheduling this workhshop for the Fall.<br />\nCybersecurity Considerations for Small Businesses</strong></span></span><br />\n<span style="font-size:16px\;"><span style="font-family:arial\;">The Petoskey Chamber is partnering with 5/3 Bank for this&nbsp\;talk about cybersecurity areas that are the most important for our businesses of all sizes to think about.</span></span><br />\n<br />\n<span style="font-family: arial\; font-size: 16px\;">Cybersecurity can seem overwhelming to a small business with few resources.&nbsp\; Where do you begin?&nbsp\; What are the most important things to consider?</span><br />\n&nbsp\;</p>\n\n<p class="xmsonormal"><span style="font-family: arial\; font-size: 16px\;">Our presenter is Lori Anello\, Senior Vice President and Chief Information Officer at Fifth Third Bank.</span><span style="font-size:16px\;"><span style="font-family: arial\;">&nbsp\;&nbsp\;</span><span style="font-family: arial\, sans-serif\; background-color: rgb(255\, 255\, 255)\;">Lori Anello is the Chief Information Security Officer at Fifth Third Bank.&nbsp\; In this role\, Lori has overall responsibility for Fifth Third Bank&rsquo\;s information security program.&nbsp\; Focused on protecting the customers\, employees and information of a bank with over $207 Billion in assets\, Lori and her team are implementing and maintaining programs and solutions designed to take advantage of the latest and best technologies and capabilities in the cybersecurity industry.&nbsp\;</span></span></p>\n\n<p class="xmsonormal"><br />\n<span style="font-size:16px\;"><span style="font-family:arial\;"><span class="xelementtoproof"><span style="color: black\;">This will take place on zoom on Thursday\, June 9&nbsp\;from 1pm-2pm.&nbsp\; Free for any business to attend.&nbsp\;&nbsp\;</span></span><span style="color:#2A2A2B\;">Winfluence programming is building stronger businesses through education and enrichment. This event is sponsored by <a href="https://www.comfortkeepers.com/offices/michigan/petoskey">Comfort Keepers.</a></span></span></span><o:p></o:p></p>\n
LOCATION:Will take place on zoom. The link will be sent to you after you register.
UID:e.1318.29630
SEQUENCE:3
DTSTAMP:20260421T032725Z
URL:https://www.petoskeychamber.com/events/details/winfluence-cybersecurity-considerations-for-small-businesses-29630
END:VEVENT

END:VCALENDAR
