BEGIN:VCALENDAR
VERSION:2.0
PRODID:-//ChamberMaster//Event Calendar 2.0//EN
METHOD:PUBLISH
X-PUBLISHED-TTL:P3D
REFRESH-INTERVAL:P3D
CALSCALE:GREGORIAN
BEGIN:VEVENT
DTSTART:20160207T143000Z
DTEND:20160207T200000Z
X-MICROSOFT-CDO-ALLDAYEVENT:FALSE
SUMMARY:XC Ski Loppet
DESCRIPTION:XC Ski Loppet will be hosted by The Outfitter of Harbor Springs on Sunday\, February 7th. This 33rd annual classic cross country ski tour on 16 miles of groomed trail from Harbor Springs to Cross Village is open to skiers of all ages and abilities. Skiers may opt for shorter mileage by starting at aid stations along the way. The Outfitter Loppet ends at the Crow's Nest restaurant with a celebration of food\, drinks\, fun and door prizes. Don't miss this winter tradition unlike any other! Note: classic skis only. Ski rentals available. Registration limited to 120 skiers. To register and more info: www.outfitterharborsprings.com\, stop in The Outfitter at 153 E Main Street\, or call 231-526-2621.
X-ALT-DESC;FMTTYPE=text/html:XC Ski Loppet will be hosted by The Outfitter of Harbor Springs on Sunday\, February 7th. This 33rd annual classic cross country ski tour on 16 miles of groomed trail from Harbor Springs to Cross Village is open to skiers of all ages and abilities. Skiers may opt for shorter mileage by starting at aid stations along the way. The Outfitter Loppet ends at the Crow&#39\;s Nest restaurant with a celebration of food\, drinks\, fun and door prizes. Don&#39\;t miss this winter tradition unlike any other! Note: classic skis only. Ski rentals available. Registration limited to 120 skiers. To register and more info: www.outfitterharborsprings.com\, stop in The Outfitter at 153 E Main Street\, or call 231-526-2621.
LOCATION:
UID:e.1318.8219
SEQUENCE:3
DTSTAMP:20260424T225145Z
URL:https://www.petoskeychamber.com/events/details/xc-ski-loppet-02-07-2016-8219
END:VEVENT

END:VCALENDAR
